BEGIN:VCALENDAR
VERSION:2.0
PRODID:icalendar-ruby
CALSCALE:GREGORIAN
METHOD:PUBLISH
BEGIN:VEVENT
DTSTAMP:20260424T160451Z
UID:6-1761010@trentonag.com
DTSTART:20261105T010000Z
DTEND:20261105T020000Z
CLASS:PUBLIC
CREATED:20260424T103728
DESCRIPTION:
LAST-MODIFIED:20260424T103728
LOCATION:Trenton Assembly of God
SUMMARY:Wednesday Evening Service
URL;VALUE=URI:https://www.trentonag.com/events/wednesday-evening-service/20
 26-11-04
END:VEVENT
END:VCALENDAR
