BEGIN:VCALENDAR
VERSION:2.0
PRODID:icalendar-ruby
CALSCALE:GREGORIAN
METHOD:PUBLISH
BEGIN:VEVENT
DTSTAMP:20260424T142131Z
UID:6-1760299@trentonag.com
DTSTART:20261029T000000Z
DTEND:20261029T010000Z
CLASS:PUBLIC
CREATED:20260424T074443
DESCRIPTION:
LAST-MODIFIED:20260424T074443
LOCATION:Trenton Assembly of God
SUMMARY:Wednesday Evening Service
URL;VALUE=URI:https://www.trentonag.com/events/wednesday-evening-service/20
 26-10-28
END:VEVENT
END:VCALENDAR
