BEGIN:VCALENDAR
VERSION:2.0
PRODID:icalendar-ruby
CALSCALE:GREGORIAN
METHOD:PUBLISH
BEGIN:VEVENT
DTSTAMP:20260424T080930Z
UID:6-1759585@trentonag.com
DTSTART:20261001T000000Z
DTEND:20261001T010000Z
CLASS:PUBLIC
CREATED:20260423T221645
DESCRIPTION:
LAST-MODIFIED:20260423T221645
LOCATION:Trenton Assembly of God
SUMMARY:Wednesday Evening Service
URL;VALUE=URI:https://www.trentonag.com/events/wednesday-evening-service/20
 26-09-30
END:VEVENT
END:VCALENDAR
