BEGIN:VCALENDAR
VERSION:2.0
PRODID:icalendar-ruby
CALSCALE:GREGORIAN
METHOD:PUBLISH
BEGIN:VEVENT
DTSTAMP:20260422T223318Z
UID:7-1753973@trentonag.com
DTSTART:20261004T144500Z
DTEND:20261004T154500Z
CLASS:PUBLIC
CREATED:20260422T162855
DESCRIPTION:
LAST-MODIFIED:20260422T162855
LOCATION:
SUMMARY:Sunday School
URL;VALUE=URI:https://www.trentonag.com/events/sunday-school/2026-10-04
ATTACH;FILENAME=TAG-Sunday-School.png;FMTTYPE=image/png:https://dq5pwpg1q8r
 u0.cloudfront.net/2025/09/07/12/28/38/3e6d4f47-9211-4e7b-99ab-4cfd0c0c228f
 /TAG-Sunday-School.png
END:VEVENT
END:VCALENDAR
