BEGIN:VCALENDAR
VERSION:2.0
PRODID:icalendar-ruby
CALSCALE:GREGORIAN
METHOD:PUBLISH
BEGIN:VEVENT
DTSTAMP:20260423T154748Z
UID:8-1756879@trentonag.com
DTSTART:20261011T154500Z
DTEND:20261011T173000Z
CLASS:PUBLIC
CREATED:20260423T103731
DESCRIPTION:
LAST-MODIFIED:20260423T103731
LOCATION:Trenton Assembly of God
SUMMARY:Sunday Morning Service
URL;VALUE=URI:https://www.trentonag.com/events/sunday-morning-service/2026-
 10-11
ATTACH;FILENAME=Sunday-Monring-Service.png;FMTTYPE=image/png:https://dq5pwp
 g1q8ru0.cloudfront.net/2025/09/07/13/08/26/67bc4af8-fa46-4fed-9536-830e4b0
 1f716/Sunday-Monring-Service.png
END:VEVENT
END:VCALENDAR
